BEGIN:VCALENDAR
VERSION:2.0
PRODID:-//Muziekvereniging Orpheus Bathmen - ECPv6.15.11//NONSGML v1.0//EN
CALSCALE:GREGORIAN
METHOD:PUBLISH
X-ORIGINAL-URL:https://orpheus-bathmen.nl
X-WR-CALDESC:Events for Muziekvereniging Orpheus Bathmen
REFRESH-INTERVAL;VALUE=DURATION:PT1H
X-Robots-Tag:noindex
X-PUBLISHED-TTL:PT1H
BEGIN:VTIMEZONE
TZID:Europe/Paris
BEGIN:DAYLIGHT
TZOFFSETFROM:+0100
TZOFFSETTO:+0200
TZNAME:CEST
DTSTART:20120325T010000
END:DAYLIGHT
BEGIN:STANDARD
TZOFFSETFROM:+0200
TZOFFSETTO:+0100
TZNAME:CET
DTSTART:20121028T010000
END:STANDARD
BEGIN:DAYLIGHT
TZOFFSETFROM:+0100
TZOFFSETTO:+0200
TZNAME:CEST
DTSTART:20130331T010000
END:DAYLIGHT
BEGIN:STANDARD
TZOFFSETFROM:+0200
TZOFFSETTO:+0100
TZNAME:CET
DTSTART:20131027T010000
END:STANDARD
BEGIN:DAYLIGHT
TZOFFSETFROM:+0100
TZOFFSETTO:+0200
TZNAME:CEST
DTSTART:20140330T010000
END:DAYLIGHT
BEGIN:STANDARD
TZOFFSETFROM:+0200
TZOFFSETTO:+0100
TZNAME:CET
DTSTART:20141026T010000
END:STANDARD
END:VTIMEZONE
BEGIN:VEVENT
DTSTART;VALUE=DATE:20130209
DTEND;VALUE=DATE:20130210
DTSTAMP:20260420T223204
CREATED:20130104T120329Z
LAST-MODIFIED:20130104T120329Z
UID:412-1360368000-1360454399@orpheus-bathmen.nl
SUMMARY:Compostactie
DESCRIPTION:
URL:https://orpheus-bathmen.nl/agenda/compostactie/
LOCATION:Unnamed Venue\, Bathmen\, Netherlands
END:VEVENT
END:VCALENDAR