BEGIN:VCALENDAR
VERSION:2.0
PRODID:-//Muziekvereniging Orpheus Bathmen - ECPv6.15.11//NONSGML v1.0//EN
CALSCALE:GREGORIAN
METHOD:PUBLISH
X-WR-CALNAME:Muziekvereniging Orpheus Bathmen
X-ORIGINAL-URL:https://orpheus-bathmen.nl
X-WR-CALDESC:Events for Muziekvereniging Orpheus Bathmen
REFRESH-INTERVAL;VALUE=DURATION:PT1H
X-Robots-Tag:noindex
X-PUBLISHED-TTL:PT1H
BEGIN:VTIMEZONE
TZID:Europe/Paris
BEGIN:DAYLIGHT
TZOFFSETFROM:+0100
TZOFFSETTO:+0200
TZNAME:CEST
DTSTART:20210328T010000
END:DAYLIGHT
BEGIN:STANDARD
TZOFFSETFROM:+0200
TZOFFSETTO:+0100
TZNAME:CET
DTSTART:20211031T010000
END:STANDARD
BEGIN:DAYLIGHT
TZOFFSETFROM:+0100
TZOFFSETTO:+0200
TZNAME:CEST
DTSTART:20220327T010000
END:DAYLIGHT
BEGIN:STANDARD
TZOFFSETFROM:+0200
TZOFFSETTO:+0100
TZNAME:CET
DTSTART:20221030T010000
END:STANDARD
BEGIN:DAYLIGHT
TZOFFSETFROM:+0100
TZOFFSETTO:+0200
TZNAME:CEST
DTSTART:20230326T010000
END:DAYLIGHT
BEGIN:STANDARD
TZOFFSETFROM:+0200
TZOFFSETTO:+0100
TZNAME:CET
DTSTART:20231029T010000
END:STANDARD
END:VTIMEZONE
BEGIN:VEVENT
DTSTART;TZID=Europe/Paris:20221126T200000
DTEND;TZID=Europe/Paris:20221126T235900
DTSTAMP:20260423T004100
CREATED:20221018T073306Z
LAST-MODIFIED:20230621T120012Z
UID:1947-1669492800-1669507140@orpheus-bathmen.nl
SUMMARY:BATTUM GEET LÖS!
DESCRIPTION:Op zaterdagavond 26 november geet Battum lös! \n\nEen feestavond georganiseerd door muziekvereniging Orpheus\, maar niet zoals je van een fanfare gewend bent!\nLaat je verrassen door het orkest\, de band\, zangers en zangeressen!\n\nKlinkt goed toch? \n#zorgdatjeerbijbent \n\n\nKaarten zijn verkrijgbaar via de website van Cultuurhuus Braakhekke.\n\nStaanplaatsen in de zaal: 10\,-\nZitplaatsen op het balkon: 12.50 (let op! er zijn maar 96 zitplaatsen beschikbaar)\n\nhttps://cultuurhuusbraakhekke.nl/theater/
URL:https://orpheus-bathmen.nl/agenda/battum-geet-los/
LOCATION:Cultuurhuus Braakhekke Bathmen\, Schoolstraat 6-A\, Bathmen\, Overijsel\, 7437AE\, Netherlands
CATEGORIES:Fanfare
ATTACH;FMTTYPE=image/jpeg:https://orpheus-bathmen.nl/wp-content/uploads/2022/10/sticker-scaled.jpg
END:VEVENT
END:VCALENDAR