BEGIN:VCALENDAR
VERSION:2.0
PRODID:-//Muziekvereniging Orpheus Bathmen - ECPv6.15.11//NONSGML v1.0//EN
CALSCALE:GREGORIAN
METHOD:PUBLISH
X-ORIGINAL-URL:https://orpheus-bathmen.nl
X-WR-CALDESC:Events for Muziekvereniging Orpheus Bathmen
REFRESH-INTERVAL;VALUE=DURATION:PT1H
X-Robots-Tag:noindex
X-PUBLISHED-TTL:PT1H
BEGIN:VTIMEZONE
TZID:Europe/Paris
BEGIN:DAYLIGHT
TZOFFSETFROM:+0100
TZOFFSETTO:+0200
TZNAME:CEST
DTSTART:20230326T010000
END:DAYLIGHT
BEGIN:STANDARD
TZOFFSETFROM:+0200
TZOFFSETTO:+0100
TZNAME:CET
DTSTART:20231029T010000
END:STANDARD
BEGIN:DAYLIGHT
TZOFFSETFROM:+0100
TZOFFSETTO:+0200
TZNAME:CEST
DTSTART:20240331T010000
END:DAYLIGHT
BEGIN:STANDARD
TZOFFSETFROM:+0200
TZOFFSETTO:+0100
TZNAME:CET
DTSTART:20241027T010000
END:STANDARD
BEGIN:DAYLIGHT
TZOFFSETFROM:+0100
TZOFFSETTO:+0200
TZNAME:CEST
DTSTART:20250330T010000
END:DAYLIGHT
BEGIN:STANDARD
TZOFFSETFROM:+0200
TZOFFSETTO:+0100
TZNAME:CET
DTSTART:20251026T010000
END:STANDARD
END:VTIMEZONE
BEGIN:VEVENT
DTSTART;TZID=Europe/Paris:20240412T203000
DTEND;TZID=Europe/Paris:20240413T003000
DTSTAMP:20260421T230115
CREATED:20240125T182224Z
LAST-MODIFIED:20240125T182318Z
UID:2346-1712953800-1712968200@orpheus-bathmen.nl
SUMMARY:NoabersLive!
DESCRIPTION:Op vrijdag 12 april 2024 slaan Muziekvereniging Orpheus en de energieke coverband Alive de handen ineen voor een onvergetelijk optreden in Loo Bathmen. Een grootschalig muziekspektakel staat gepland\, waarbij Alive met een indrukwekkend fanfare orkest van Orpheus uit Bathmen het publiek zal betoveren met een unieke muzikale ervaring. Op deze avond zullen de noten van de fanfare en hedendaagse covers samensmelten tot een ongekende muzikale reis. \nNoabersLive is een samenwerking met Tentfeest Loo\, de zaterdagavond vult zich met optredens van coverband Hard2Get\, DJ The Allstarz en het dynamische DJ Duo BarTiesten.\nNoabersLive\, in samenwerking met Tentfeest Loo\, brengt twee dagen lang puur feestplezier naar de regio\, waar muziek de verbindende factor zal zijn. \nVoor de liefhebbers van diverse muziekgenres is er goed nieuws\, want Hard2Get zal op zaterdagavond het podium delen met de bezielende beats van DJ The Allstarz en het opzwepende DJ Duo BarTiesten.\nZorg dat je beide data vrijhoudt in je agenda\, want Tentfeest LOO belooft dit jaar een niet te missen evenement te worden. \nCombitickets zijn beschikbaar voor degenen die beide avonden willen meemaken en zich willen laten onderdompelen in een weekend vol muzikale hoogtepunten.\nHoud de officiële website in de gaten voor het laatste nieuws\, ticketinformatie en eventuele verrassingen die het feest compleet maken.\nBereid je voor op een onvergetelijk weekend vol muzikale diversiteit\, enthousiasme en gezelligheid. Tentfeest LOO 2024: waar muziek verbindt en feesten begint! \nTickets via https://tentfeestloo.avayo.nl/transactions
URL:https://orpheus-bathmen.nl/agenda/noaberslive/
LOCATION:Baarhorstweg\, Loo-Bathmen
END:VEVENT
END:VCALENDAR