BEGIN:VCALENDAR
VERSION:2.0
PRODID:-//Muziekvereniging Orpheus Bathmen - ECPv6.15.11//NONSGML v1.0//EN
CALSCALE:GREGORIAN
METHOD:PUBLISH
X-ORIGINAL-URL:https://orpheus-bathmen.nl
X-WR-CALDESC:Events for Muziekvereniging Orpheus Bathmen
REFRESH-INTERVAL;VALUE=DURATION:PT1H
X-Robots-Tag:noindex
X-PUBLISHED-TTL:PT1H
BEGIN:VTIMEZONE
TZID:Europe/Paris
BEGIN:DAYLIGHT
TZOFFSETFROM:+0100
TZOFFSETTO:+0200
TZNAME:CEST
DTSTART:20210328T010000
END:DAYLIGHT
BEGIN:STANDARD
TZOFFSETFROM:+0200
TZOFFSETTO:+0100
TZNAME:CET
DTSTART:20211031T010000
END:STANDARD
BEGIN:DAYLIGHT
TZOFFSETFROM:+0100
TZOFFSETTO:+0200
TZNAME:CEST
DTSTART:20220327T010000
END:DAYLIGHT
BEGIN:STANDARD
TZOFFSETFROM:+0200
TZOFFSETTO:+0100
TZNAME:CET
DTSTART:20221030T010000
END:STANDARD
BEGIN:DAYLIGHT
TZOFFSETFROM:+0100
TZOFFSETTO:+0200
TZNAME:CEST
DTSTART:20230326T010000
END:DAYLIGHT
BEGIN:STANDARD
TZOFFSETFROM:+0200
TZOFFSETTO:+0100
TZNAME:CET
DTSTART:20231029T010000
END:STANDARD
END:VTIMEZONE
BEGIN:VEVENT
DTSTART;TZID=Europe/Paris:20220830T194500
DTEND;TZID=Europe/Paris:20220830T214500
DTSTAMP:20260424T220007
CREATED:20220825T083133Z
LAST-MODIFIED:20230621T120004Z
UID:1935-1661888700-1661895900@orpheus-bathmen.nl
SUMMARY:Start seizoen 2022/2023
DESCRIPTION:Dinsdag 30 augustus gaat het nieuwe seizoen van start! \n      in het nieuwe seizoen? \nWil jij starten met muzieklessen na de zomer? Laat het ons weten\, we verwelkomen je graag! De lesdagen en repetitietijden staan onderaan dit bericht. Neem voor meer informatie contact op met muziekles-coördinator Jorine via muziekles@orpheus-bathmen.nl\nKan jij al een instrument bespelen en ben je op zoek naar een gezellige en gemotiveerde vereniging?\nOok dan ben je van harte welkom! Geen instrument? Geen zorgen\, dat kunnen wij regelen! Neem contact met ons op via info@orpheus-bathmen.nl\, het contactformulier op de website of stuur een berichtje via Facebook!\n  \nFanfare: dinsdag 19.45 – 21.45 uur\nLeerlingen orkest: dinsdag\nSlagwerk: dinsdag\nBariton: dinsdag\nTrombone: dinsdag\nHoorn: dinsdag\nSaxofoon: dinsdag\nBugel: woensdag\nTrompet: woensdag\n\n(tijden in overleg met vakdocent)
URL:https://orpheus-bathmen.nl/agenda/start-seizoen-2022-2023/
LOCATION:Cultuurhuus Braakhekke Bathmen\, Schoolstraat 6-A\, Bathmen\, Overijsel\, 7437AE\, Netherlands
CATEGORIES:Fanfare
END:VEVENT
END:VCALENDAR