BEGIN:VCALENDAR
VERSION:2.0
PRODID:-//Muziekvereniging Orpheus Bathmen - ECPv6.15.11//NONSGML v1.0//EN
CALSCALE:GREGORIAN
METHOD:PUBLISH
X-WR-CALNAME:Muziekvereniging Orpheus Bathmen
X-ORIGINAL-URL:https://orpheus-bathmen.nl
X-WR-CALDESC:Events for Muziekvereniging Orpheus Bathmen
REFRESH-INTERVAL;VALUE=DURATION:PT1H
X-Robots-Tag:noindex
X-PUBLISHED-TTL:PT1H
BEGIN:VTIMEZONE
TZID:Europe/Paris
BEGIN:DAYLIGHT
TZOFFSETFROM:+0100
TZOFFSETTO:+0200
TZNAME:CEST
DTSTART:20220327T010000
END:DAYLIGHT
BEGIN:STANDARD
TZOFFSETFROM:+0200
TZOFFSETTO:+0100
TZNAME:CET
DTSTART:20221030T010000
END:STANDARD
BEGIN:DAYLIGHT
TZOFFSETFROM:+0100
TZOFFSETTO:+0200
TZNAME:CEST
DTSTART:20230326T010000
END:DAYLIGHT
BEGIN:STANDARD
TZOFFSETFROM:+0200
TZOFFSETTO:+0100
TZNAME:CET
DTSTART:20231029T010000
END:STANDARD
BEGIN:DAYLIGHT
TZOFFSETFROM:+0100
TZOFFSETTO:+0200
TZNAME:CEST
DTSTART:20240331T010000
END:DAYLIGHT
BEGIN:STANDARD
TZOFFSETFROM:+0200
TZOFFSETTO:+0100
TZNAME:CET
DTSTART:20241027T010000
END:STANDARD
END:VTIMEZONE
BEGIN:VEVENT
DTSTART;TZID=Europe/Paris:20231105T140000
DTEND;TZID=Europe/Paris:20231105T170000
DTSTAMP:20260422T053247
CREATED:20231023T183204Z
LAST-MODIFIED:20231220T170630Z
UID:2214-1699192800-1699203600@orpheus-bathmen.nl
SUMMARY:Try-Out concert Loenen
DESCRIPTION:Op 5 november speelt het fanfare orkest van Orpheus een try-out concert met Excelsior Winterswijk en Eendracht Eerbeek in Loenen. \nAanvang: 14.00 uur
URL:https://orpheus-bathmen.nl/agenda/try-out-concert-loenen/
LOCATION:Overijsel
CATEGORIES:Fanfare
END:VEVENT
BEGIN:VEVENT
DTSTART;TZID=Europe/Paris:20231118T080000
DTEND;TZID=Europe/Paris:20231118T170000
DTSTAMP:20260422T053247
CREATED:20230822T155718Z
LAST-MODIFIED:20231220T170624Z
UID:2128-1700294400-1700326800@orpheus-bathmen.nl
SUMMARY:Concours - Fanfare
DESCRIPTION:Het fanfare orkest van Muziekvereniging Orpheus neemt deel aan het concours in de Hanzehof te Zutphen. \nOp 18 november speelt Orpheus om 11.00 uur. \nOpening van het ochtendprogramma is om 10.00 uur\, om 12 uur is de middagpauze en worden de uitslagen van het ochtendprogramma bekend gemaakt. \n  \n 
URL:https://orpheus-bathmen.nl/agenda/concours-fanfare/
LOCATION:Overijsel
CATEGORIES:Fanfare
END:VEVENT
END:VCALENDAR