BEGIN:VCALENDAR
VERSION:2.0
PRODID:-//Muziekvereniging Orpheus Bathmen - ECPv6.15.11//NONSGML v1.0//EN
CALSCALE:GREGORIAN
METHOD:PUBLISH
X-ORIGINAL-URL:https://orpheus-bathmen.nl
X-WR-CALDESC:Events for Muziekvereniging Orpheus Bathmen
REFRESH-INTERVAL;VALUE=DURATION:PT1H
X-Robots-Tag:noindex
X-PUBLISHED-TTL:PT1H
BEGIN:VTIMEZONE
TZID:Europe/Paris
BEGIN:DAYLIGHT
TZOFFSETFROM:+0100
TZOFFSETTO:+0200
TZNAME:CEST
DTSTART:20230326T010000
END:DAYLIGHT
BEGIN:STANDARD
TZOFFSETFROM:+0200
TZOFFSETTO:+0100
TZNAME:CET
DTSTART:20231029T010000
END:STANDARD
BEGIN:DAYLIGHT
TZOFFSETFROM:+0100
TZOFFSETTO:+0200
TZNAME:CEST
DTSTART:20240331T010000
END:DAYLIGHT
BEGIN:STANDARD
TZOFFSETFROM:+0200
TZOFFSETTO:+0100
TZNAME:CET
DTSTART:20241027T010000
END:STANDARD
BEGIN:DAYLIGHT
TZOFFSETFROM:+0100
TZOFFSETTO:+0200
TZNAME:CEST
DTSTART:20250330T010000
END:DAYLIGHT
BEGIN:STANDARD
TZOFFSETFROM:+0200
TZOFFSETTO:+0100
TZNAME:CET
DTSTART:20251026T010000
END:STANDARD
END:VTIMEZONE
BEGIN:VEVENT
DTSTART;TZID=Europe/Paris:20240608T200000
DTEND;TZID=Europe/Paris:20240608T213000
DTSTAMP:20260421T183906
CREATED:20240415T133021Z
LAST-MODIFIED:20240524T140922Z
UID:2385-1717876800-1717882200@orpheus-bathmen.nl
SUMMARY:THE ARMED MAN: A Mass for Peace in Lochem
DESCRIPTION:THE ARMED MAN: A Mass for Peace (Karl Jenkins)\nHet klassiek kamerkoor Deeps Vocaal uit Diepenheim\, onder leiding van Yt Nicolai\, bestaat vijf jaar! Ter gelegenheid van het eerste lustrum brengt Deeps Vocaal op 8 juni 2024 The Armed Man: a Mass for Peace van de Engelse componist Karl Jenkins. Voor dit jubileumconcert wordt samengewerkt met het koor van de Bachwerkplaats en Muziekvereniging Orpheus Bathmen. \nDit spectaculaire concert\, dat geen enkele bezoeker onberoerd laat\, wordt uitgevoerd in de Gudulakerk in Lochem.\nThe Armed Man: a Mass for Peace werd in 1999 als anti-oorlogsstuk geschreven door de uit Wales afkomstige componist Karl Jenkins. Het werk heeft dertien delen uit verschillende periodes en met diverse muzikale stijlen. De indrukwekkende teksten zijn afkomstig uit wereldlijke\, christelijke\, hindoeïstische en islamitische bronnen. De teksten gaan over de verschrikkingen van oorlog\, maar ook over de hoop op duurzame vrede. \nDeeps Vocaal brengt het stuk in een speciaal arrangement voor koor\, solisten en fanfare-orkest. Door de samenwerking met de Bachwerkplaats is er een indrukwekkend dubbel koor\, terwijl Muziekvereniging Orpheus garant staat voor fenomenale blazers en intens ritmisch slagwerk. \nWegens de te verwachten grote belangstelling wordt het concert uitgevoerd in Gudulakerk in Lochem\, op zaterdagavond 8 juni 2024 vanaf 20:00 uur. \nReserveren wordt aanbevolen\, klik  hier voor de kaartverkoop. \n 
URL:https://orpheus-bathmen.nl/agenda/the-armed-man-a-mass-for-peace-in-lochem/
LOCATION:Gudula kerk lochem\, Markt 1\, Lochem\, Gelderland\, 7241AA\, Netherlands
ATTACH;FMTTYPE=image/png:https://orpheus-bathmen.nl/wp-content/uploads/2024/04/The-armed-man-Deepn.png
END:VEVENT
BEGIN:VEVENT
DTSTART;TZID=Europe/Paris:20240622T080000
DTEND;TZID=Europe/Paris:20240622T170000
DTSTAMP:20260421T183906
CREATED:20240524T141223Z
LAST-MODIFIED:20240524T141223Z
UID:2408-1719043200-1719075600@orpheus-bathmen.nl
SUMMARY:Jeugdfestival  'met je band in de feesttent'
DESCRIPTION:The Orphies\, het leerlingen-orkest doen op 22 juni mee aan het jeugdmuziekfestival in Spankeren\, onder leiding van Linda Arnoldus.
URL:https://orpheus-bathmen.nl/agenda/jeugdfestival-met-je-band-in-de-feesttent/
LOCATION:Overijsel
END:VEVENT
END:VCALENDAR